BEGIN:VCALENDAR
VERSION:2.0
PRODID:-//Hemdeklunkis - ECPv6.15.20//NONSGML v1.0//EN
CALSCALE:GREGORIAN
METHOD:PUBLISH
X-WR-CALNAME:Hemdeklunkis
X-ORIGINAL-URL:https://hemdeklunkis.de
X-WR-CALDESC:Veranstaltungen für Hemdeklunkis
REFRESH-INTERVAL;VALUE=DURATION:PT1H
X-Robots-Tag:noindex
X-PUBLISHED-TTL:PT1H
BEGIN:VTIMEZONE
TZID:Europe/Berlin
BEGIN:DAYLIGHT
TZOFFSETFROM:+0100
TZOFFSETTO:+0200
TZNAME:CEST
DTSTART:20240331T010000
END:DAYLIGHT
BEGIN:STANDARD
TZOFFSETFROM:+0200
TZOFFSETTO:+0100
TZNAME:CET
DTSTART:20241027T010000
END:STANDARD
BEGIN:DAYLIGHT
TZOFFSETFROM:+0100
TZOFFSETTO:+0200
TZNAME:CEST
DTSTART:20250330T010000
END:DAYLIGHT
BEGIN:STANDARD
TZOFFSETFROM:+0200
TZOFFSETTO:+0100
TZNAME:CET
DTSTART:20251026T010000
END:STANDARD
BEGIN:DAYLIGHT
TZOFFSETFROM:+0100
TZOFFSETTO:+0200
TZNAME:CEST
DTSTART:20260329T010000
END:DAYLIGHT
BEGIN:STANDARD
TZOFFSETFROM:+0200
TZOFFSETTO:+0100
TZNAME:CET
DTSTART:20261025T010000
END:STANDARD
END:VTIMEZONE
BEGIN:VEVENT
DTSTART;TZID=Europe/Berlin:20250614T140000
DTEND;TZID=Europe/Berlin:20250614T220000
DTSTAMP:20260425T043931
CREATED:20250715T075452Z
LAST-MODIFIED:20250716T130135Z
UID:5383-1749909600-1749938400@hemdeklunkis.de
SUMMARY:60 Jahre Jubiläumsfeier
DESCRIPTION:
URL:https://hemdeklunkis.de/event/60-jahre-jubilaeumsfeier/
CATEGORIES:Vereinsveranstaltungen
END:VEVENT
END:VCALENDAR